BEGIN:VCALENDAR
VERSION:2.0
PRODID:-//Tukios.com/
BEGIN:VEVENT
UID:796dbe1c-4c45-4b4e-ada6-fa4e52d3e45a@www.rosenaufuneralhome.com
DTSTAMP:20260424T180805Z
DTSTART:20260616T200000Z
DTEND:20260616T210000Z
SUMMARY:Memorial Service
DESCRIPTION:
URL:https://www.rosenaufuneralhome.com/obituaries/dale-westermann
LOCATION: 1602 Lutheran Rd  Eden ID 83325
GEO:42.5623333;-114.2097641
END:VEVENT
END:VCALENDAR